BEGIN:VCALENDAR
VERSION:2.0
PRODID:-//ExhibitionMatches.com//NONSGML v1.0//EN
BEGIN:VEVENT
UID=450C0164-9229-17A6-B46C6A203196F8D4
DTSTAMP=20260423T063011Z
DTSTART;VALUE=DATE:20260503
DTEND;VALUE=DATE:20260504
SUMMARY:CT Freestyle and Greco State Championship
LOCATION:Greens Farm Academy, 35 Beachside Avenue, Westport, CT
DESCRIPTION:View full event details: https://wrestlingtournaments.org/view.cfm?ID=107180
Contact: Brandon Fulco fulcobrandon@gmail.com
URL;VALUE=URI:https://wrestlingtournaments.org/view.cfm?ID=107180
END:VEVENT
END:VCALENDAR