BEGIN:VCALENDAR
VERSION:2.0
PRODID:-//ExhibitionMatches.com//NONSGML v1.0//EN
BEGIN:VEVENT
UID=4578B338-DFB7-B687-DD9E9740C8DD88AA
DTSTAMP=20260423T064203Z
DTSTART;VALUE=DATE:20261212
DTEND;VALUE=DATE:20261213
SUMMARY:Grappling Industries CONNECTICUT
LOCATION:NYA Sports &amp; Fitness, 4 Primrose St, New Haven, CT
DESCRIPTION:View full event details: https://wrestlingtournaments.org/view.cfm?ID=107121
Contact: grapplingindustries@gmail.com
URL;VALUE=URI:https://wrestlingtournaments.org/view.cfm?ID=107121
END:VEVENT
END:VCALENDAR