BEGIN:VCALENDAR
VERSION:2.0
PRODID:-//ExhibitionMatches.com//NONSGML v1.0//EN
BEGIN:VEVENT
UID=4514C148-9223-7F42-D58237A0B97F937A
DTSTAMP=20260423T063108Z
DTSTART;VALUE=DATE:20260620
DTEND;VALUE=DATE:20260621
SUMMARY:4th of July Bash
LOCATION:Mt. Hope High School, Bristol, CT
DESCRIPTION:View full event details: https://wrestlingtournaments.org/view.cfm?ID=107055
Contact: Brad Oliver 401-864-0899 EBwolfpackwrestling@gmail.com
URL;VALUE=URI:https://wrestlingtournaments.org/view.cfm?ID=107055
END:VEVENT
END:VCALENDAR