BEGIN:VCALENDAR
VERSION:2.0
PRODID:-//ExhibitionMatches.com//NONSGML v1.0//EN
BEGIN:VEVENT
UID=44E4AB9D-C0A8-0387-E5FACE87DA27C9CA
DTSTAMP=20260423T062553Z
DTSTART;VALUE=DATE:20260822
DTEND;VALUE=DATE:20260823
SUMMARY:Grappling Industries CONNECTICUT
LOCATION:NYA Sports &amp; Fitness, 4 Primrose St, Newtown, CT
DESCRIPTION:View full event details: https://wrestlingtournaments.org/view.cfm?ID=106972
Contact: grapplingindustries@gmail.com
URL;VALUE=URI:https://wrestlingtournaments.org/view.cfm?ID=106972
END:VEVENT
END:VCALENDAR